Workbook

Sheet Notes and Instructions
B7: DISCLAIMER:
B8: The information contained in this spreadsheet is general in nature and should not be considered to be legal, tax, accounting, consulting, or any other professional advice. In all cases you should consult with professional advisors familiar with your particular factual situation for advice concerning specific matters before making any decisions.
B10: Green Text = Clickable Links below
B11: BUDGET INSTRUCTIONS:
A12: 1 | B12: Assumuptions and inputs are in GREY & BLUE text throughout the plan; numbers in BLACK are formula driven and will update automatically based on the blue inputs
A13: 2 | B13: As a 1st step in planning, update cell B2 to the current planning year
A14: =A13+1 -> 3 | B14: Review assumptions and update throughout the plan. It will likely be easiest to start with the labor, parts, sublet, shop supplies assumptions on 'Profit and Loss' tab beginning on row 33.
A15: =A14+1 -> 4 | B15: For cash flow purposes all sales are assumed receivable net 30 (i.e. will be collected in the month after the work is complete, work completed in January will be collected in February)
A16: =A15+1 -> 5 | B16: For cash flow purposes that all payables are net 30 (i.e. will be paid in the month after the purchase is complete, payables invoices from January will be paid in February)
A17: =A16+1 -> 6 | B17: The bonus plan is based on invoiced hours and paid out at $X per invoiced hour in the plan (i.e. for every invoiced hour a tech gets $1.00) and paid out monthly.
A18: =A17+1 -> 7 | B18: Wages on the 'People' tab are all annual amounts. For full-time hourly employees, take their hourly rate and multiply it by 40 (hours) and then mulitply it by 52 (weeks in the year) to get annual wages without overtime (Annual Wage = HOURLY RATE * 40 *52)
A19: =A18+1 -> 8 | B19: The "Benefits, Tax, etc Rate" on the 'People' tab is the rate used to cover employer payroll taxes, benefits (health, vision, dental, etc), and any other fringe benefits given to employer but paid by the shop. The rate is a percentage of the employees salary.

Sheet Profit and Loss Budget
C1: Jan | D1: Feb | E1: Mar | F1: Apr | G1: May | H1: Jun | I1: Jul | J1: Aug | K1: Sep | L1: Oct | M1: Nov | N1: Dec | O1: Total
B2: 2025 | C2: =date($B$2,1,31) -> 45688 | D2: =eomonth(C2,1) -> 45716 | E2: =eomonth(D2,1) -> 45747 | F2: =eomonth(E2,1) -> 45777 | G2: =eomonth(F2,1) -> 45808 | H2: =eomonth(G2,1) -> 45838 | I2: =eomonth(H2,1) -> 45869 | J2: =eomonth(I2,1) -> 45900 | K2: =eomonth(J2,1) -> 45930 | ... N2: =eomonth(M2,1) -> 46022
C3: Budget | D3: Budget | E3: Budget | F3: Budget | G3: Budget | H3: Budget | I3: Budget | J3: Budget | K3: Budget | L3: Budget | M3: Budget | N3: Budget | O3: Budget
B4: Revenue
A5: ='Profit and Loss Actuals'!A4 -> #REF! | B5: Labor (Technician and Parts Runner) | C5: =C44*C45 -> 114380 | D5: =D44*D45 -> 114380 | E5: =E44*E45 -> 114380 | F5: =F44*F45 -> 114380 | G5: =G44*G45 -> 114380 | H5: =H44*H45 -> 114380 | I5: =I44*I45 -> 114380 | J5: =J44*J45 -> 114380 | ... N5: =N44*N45 -> 114380 | O5: =SUM(C5:N5) -> 1372560
A6: ='Profit and Loss Actuals'!A5 -> #REF! | B6: ='Profit and Loss Budget'!B48 -> Parts | C6: =C13*(1+C49) -> 89216.4 | D6: =D13*(1+D49) -> 89216.4 | E6: =E13*(1+E49) -> 89216.4 | F6: =F13*(1+F49) -> 89216.4 | G6: =G13*(1+G49) -> 89216.4 | H6: =H13*(1+H49) -> 89216.4 | I6: =I13*(1+I49) -> 89216.4 | J6: =J13*(1+J49) -> 89216.4 | ... N6: =N13*(1+N49) -> 89216.4 | O6: =SUM(C6:N6) -> 1070596.8
A7: ='Profit and Loss Actuals'!A6 -> #REF! | B7: ='Profit and Loss Budget'!B52 -> Sublet | C7: =C14*(1+C53) -> 2745.12 | D7: =D14*(1+D53) -> 2745.12 | E7: =E14*(1+E53) -> 2745.12 | F7: =F14*(1+F53) -> 2745.12 | G7: =G14*(1+G53) -> 2745.12 | H7: =H14*(1+H53) -> 2745.12 | I7: =I14*(1+I53) -> 2745.12 | J7: =J14*(1+J53) -> 2745.12 | ... N7: =N14*(1+N53) -> 2745.12 | O7: =SUM(C7:N7) -> 32941.44
A8: ='Profit and Loss Actuals'!A7 -> #REF! | B8: ='Profit and Loss Budget'!B56 -> Shop Supplies | C8: =C5*C57 -> 9150.4 | D8: =D5*D57 -> 9150.4 | E8: =E5*E57 -> 9150.4 | F8: =F5*F57 -> 9150.4 | G8: =G5*G57 -> 9150.4 | H8: =H5*H57 -> 9150.4 | I8: =I5*I57 -> 9150.4 | J8: =J5*J57 -> 9150.4 | ... N8: =N5*N57 -> 9150.4 | O8: =SUM(C8:N8) -> 109804.8
B9: Total Revenue | C9: =SUM(C5:C8) -> 215491.92 | D9: =SUM(D5:D8) -> 215491.92 | E9: =SUM(E5:E8) -> 215491.92 | F9: =SUM(F5:F8) -> 215491.92 | G9: =SUM(G5:G8) -> 215491.92 | H9: =SUM(H5:H8) -> 215491.92 | I9: =SUM(I5:I8) -> 215491.92 | J9: =SUM(J5:J8) -> 215491.92 | ... N9: =SUM(N5:N8) -> 215491.92 | O9: =SUM(C9:N9) -> 2585903
B11: Cost of Revenue
A12: ='Profit and Loss Actuals'!A11 -> #REF! | B12: =B5 -> Labor (Technician and Parts Runner) | C12: =('People Budget'!C22+'People Budget'!C35) -> 48668.8 | D12: =('People Budget'!D22+'People Budget'!D35) -> 48668.8 | E12: =('People Budget'!E22+'People Budget'!E35) -> 48668.8 | F12: =('People Budget'!F22+'People Budget'!F35) -> 48668.8 | G12: =('People Budget'!G22+'People Budget'!G35) -> 48668.8 | H12: =('People Budget'!H22+'People Budget'!H35) -> 48668.8 | I12: =('People Budget'!I22+'People Budget'!I35) -> 48668.8 | J12: =('People Budget'!J22+'People Budget'!J35) -> 48668.8 | ... N12: =('People Budget'!N22+'People Budget'!N35) -> 48668.8 | O12: =SUM(C12:N12) -> 584025.6
A13: ='Profit and Loss Actuals'!A12 -> #REF! | B13: =B6 -> Parts | C13: =C5*C50 -> 68628 | D13: =D5*D50 -> 68628 | E13: =E5*E50 -> 68628 | F13: =F5*F50 -> 68628 | G13: =G5*G50 -> 68628 | H13: =H5*H50 -> 68628 | I13: =I5*I50 -> 68628 | J13: =J5*J50 -> 68628 | ... N13: =N5*N50 -> 68628 | O13: =SUM(C13:N13) -> 823536
A14: ='Profit and Loss Actuals'!A13 -> #REF! | B14: =B7 -> Sublet | C14: =C5*C54 -> 2287.6 | D14: =D5*D54 -> 2287.6 | E14: =E5*E54 -> 2287.6 | F14: =F5*F54 -> 2287.6 | G14: =G5*G54 -> 2287.6 | H14: =H5*H54 -> 2287.6 | I14: =I5*I54 -> 2287.6 | J14: =J5*J54 -> 2287.6 | ... N14: =N5*N54 -> 2287.6 | O14: =SUM(C14:N14) -> 27451.2
A15: ='Profit and Loss Actuals'!A14 -> #REF! | B15: =B8 -> Shop Supplies | C15: ='Profit and Loss Budget'!C5*'Profit and Loss Budget'!C58 -> 4575.2 | D15: ='Profit and Loss Budget'!D5*'Profit and Loss Budget'!D58 -> 4575.2 | E15: ='Profit and Loss Budget'!E5*'Profit and Loss Budget'!E58 -> 4575.2 | F15: ='Profit and Loss Budget'!F5*'Profit and Loss Budget'!F58 -> 4575.2 | G15: ='Profit and Loss Budget'!G5*'Profit and Loss Budget'!G58 -> 4575.2 | H15: ='Profit and Loss Budget'!H5*'Profit and Loss Budget'!H58 -> 4575.2 | I15: ='Profit and Loss Budget'!I5*'Profit and Loss Budget'!I58 -> 4575.2 | J15: ='Profit and Loss Budget'!J5*'Profit and Loss Budget'!J58 -> 4575.2 | ... N15: ='Profit and Loss Budget'!N5*'Profit and Loss Budget'!N58 -> 4575.2 | O15: =SUM(C15:N15) -> 54902.4
B16: Total Cost of Revenue | C16: =SUM(C12:C15) -> 124159.6 | D16: =SUM(D12:D15) -> 124159.6 | E16: =SUM(E12:E15) -> 124159.6 | F16: =SUM(F12:F15) -> 124159.6 | G16: =SUM(G12:G15) -> 124159.6 | H16: =SUM(H12:H15) -> 124159.6 | I16: =SUM(I12:I15) -> 124159.6 | J16: =SUM(J12:J15) -> 124159.6 | ... N16: =SUM(N12:N15) -> 124159.6 | O16: =SUM(C16:N16) -> 1489915.2
B18: Gross Profit
A19: ='Profit and Loss Actuals'!A18 -> #REF! | B19: =B5 -> Labor (Technician and Parts Runner) | C19: =C5-C12 -> 65711.2 | D19: =D5-D12 -> 65711.2 | E19: =E5-E12 -> 65711.2 | F19: =F5-F12 -> 65711.2 | G19: =G5-G12 -> 65711.2 | H19: =H5-H12 -> 65711.2 | I19: =I5-I12 -> 65711.2 | J19: =J5-J12 -> 65711.2 | ... N19: =N5-N12 -> 65711.2 | O19: =SUM(C19:N19) -> 788534.4
A20: ='Profit and Loss Actuals'!A19 -> #REF! | B20: =B13 -> Parts | C20: =C6-C13 -> 20588.4 | D20: =D6-D13 -> 20588.4 | E20: =E6-E13 -> 20588.4 | F20: =F6-F13 -> 20588.4 | G20: =G6-G13 -> 20588.4 | H20: =H6-H13 -> 20588.4 | I20: =I6-I13 -> 20588.4 | J20: =J6-J13 -> 20588.4 | ... N20: =N6-N13 -> 20588.4 | O20: =SUM(C20:N20) -> 247060.8
A21: ='Profit and Loss Actuals'!A20 -> #REF! | B21: =B14 -> Sublet | C21: =C7-C14 -> 457.52 | D21: =D7-D14 -> 457.52 | E21: =E7-E14 -> 457.52 | F21: =F7-F14 -> 457.52 | G21: =G7-G14 -> 457.52 | H21: =H7-H14 -> 457.52 | I21: =I7-I14 -> 457.52 | J21: =J7-J14 -> 457.52 | ... N21: =N7-N14 -> 457.52 | O21: =SUM(C21:N21) -> 5490.24
A22: ='Profit and Loss Actuals'!A21 -> #REF! | B22: =B15 -> Shop Supplies | C22: =C8-C15 -> 4575.2 | D22: =D8-D15 -> 4575.2 | E22: =E8-E15 -> 4575.2 | F22: =F8-F15 -> 4575.2 | G22: =G8-G15 -> 4575.2 | H22: =H8-H15 -> 4575.2 | I22: =I8-I15 -> 4575.2 | J22: =J8-J15 -> 4575.2 | ... N22: =N8-N15 -> 4575.2 | O22: =SUM(C22:N22) -> 54902.4
B23: Total Gross Profit | C23: =C9-C16 -> 91332.32 | D23: =D9-D16 -> 91332.32 | E23: =E9-E16 -> 91332.32 | F23: =F9-F16 -> 91332.32 | G23: =G9-G16 -> 91332.32 | H23: =H9-H16 -> 91332.32 | I23: =I9-I16 -> 91332.32 | J23: =J9-J16 -> 91332.32 | ... N23: =N9-N16 -> 91332.32 | O23: =SUM(C23:N23) -> 1095987.8
B24: Gross Profit % | C24: =C23/C9 -> 0.42383176 | D24: =D23/D9 -> 0.42383176 | E24: =E23/E9 -> 0.42383176 | F24: =F23/F9 -> 0.42383176 | G24: =G23/G9 -> 0.42383176 | H24: =H23/H9 -> 0.42383176 | I24: =I23/I9 -> 0.42383176 | J24: =J23/J9 -> 0.42383176 | ... O24: =O23/O9 -> 0.42383176
B26: Operating Expenses
B27: Compensation (Managers) | C27: =('People Budget'!C23+'People Budget'!C36) -> 27292.333 | D27: =('People Budget'!D23+'People Budget'!D36) -> 27292.333 | E27: =('People Budget'!E23+'People Budget'!E36) -> 27292.333 | F27: =('People Budget'!F23+'People Budget'!F36) -> 27292.333 | G27: =('People Budget'!G23+'People Budget'!G36) -> 27292.333 | H27: =('People Budget'!H23+'People Budget'!H36) -> 27292.333 | I27: =('People Budget'!I23+'People Budget'!I36) -> 27292.333 | J27: =('People Budget'!J23+'People Budget'!J36) -> 27292.333 | ... N27: =('People Budget'!N23+'People Budget'!N36) -> 27292.333 | O27: =SUM(C27:N27) -> 327508
B28: Benefits, Taxes, Etc | C28: =('People Budget'!C24+'People Budget'!C37)*'People Budget'!$B$39 -> 15192.227 | D28: =('People Budget'!D24+'People Budget'!D37)*'People Budget'!$B$39 -> 15192.227 | E28: =('People Budget'!E24+'People Budget'!E37)*'People Budget'!$B$39 -> 15192.227 | F28: =('People Budget'!F24+'People Budget'!F37)*'People Budget'!$B$39 -> 15192.227 | G28: =('People Budget'!G24+'People Budget'!G37)*'People Budget'!$B$39 -> 15192.227 | H28: =('People Budget'!H24+'People Budget'!H37)*'People Budget'!$B$39 -> 15192.227 | I28: =('People Budget'!I24+'People Budget'!I37)*'People Budget'!$B$39 -> 15192.227 | J28: =('People Budget'!J24+'People Budget'!J37)*'People Budget'!$B$39 -> 15192.227 | ... N28: =('People Budget'!N24+'People Budget'!N37)*'People Budget'!$B$39 -> 15192.227 | O28: =SUM(C28:N28) -> 182306.72
B29: Lease & Utilities | C29: 4000 | D29: 4000 | E29: 4000 | F29: 4000 | G29: 4000 | H29: 4000 | I29: 4000 | J29: 4000 | K29: 4000 | L29: 4000 | M29: 4000 | N29: 4000 | O29: =SUM(C29:N29) -> 48000
B30: Service Trucks & Fuel | C30: 6000 | D30: 6000 | E30: 6000 | F30: 6000 | G30: 6000 | H30: 6000 | I30: 6000 | J30: 6000 | K30: 6000 | L30: 6000 | M30: 6000 | N30: 6000 | O30: =SUM(C30:N30) -> 72000
B31: Business Insurance | C31: 2500 | D31: 2500 | E31: 2500 | F31: 2500 | G31: 2500 | H31: 2500 | I31: 2500 | J31: 2500 | K31: 2500 | L31: 2500 | M31: 2500 | N31: 2500 | O31: =SUM(C31:N31) -> 30000
B32: Marketing/Website | C32: 499 | D32: 499 | E32: 499 | F32: 499 | G32: 499 | H32: 1500 | I32: 1500 | J32: 1500 | K32: 1500 | L32: 1500 | M32: 1500 | N32: 1500 | O32: =SUM(C32:N32) -> 12995
B33: Tools | C33: 500 | D33: 500 | E33: 500 | F33: 500 | G33: 500 | H33: 500 | I33: 500 | J33: 500 | K33: 500 | L33: 500 | M33: 500 | N33: 500 | O33: =SUM(C33:N33) -> 6000
B34: Miscellaneous | C34: 1000 | D34: 1000 | E34: 1000 | F34: 1000 | G34: 1000 | H34: 1000 | I34: 1000 | J34: 1000 | K34: 1000 | L34: 1000 | M34: 1000 | N34: 1000 | O34: =SUM(C34:N34) -> 12000
B35: Total Operating Expenses | C35: =SUM(C27:C34) -> 56983.56 | D35: =SUM(D27:D34) -> 56983.56 | E35: =SUM(E27:E34) -> 56983.56 | F35: =SUM(F27:F34) -> 56983.56 | G35: =SUM(G27:G34) -> 56983.56 | H35: =SUM(H27:H34) -> 57984.56 | I35: =SUM(I27:I34) -> 57984.56 | J35: =SUM(J27:J34) -> 57984.56 | ... O35: =SUM(O27:O34) -> 690809.72
B36: Net Profit | C36: =C23-C35 -> 34348.76 | D36: =D23-D35 -> 34348.76 | E36: =E23-E35 -> 34348.76 | F36: =F23-F35 -> 34348.76 | G36: =G23-G35 -> 34348.76 | H36: =H23-H35 -> 33347.76 | I36: =I23-I35 -> 33347.76 | J36: =J23-J35 -> 33347.76 | ... O36: =O23-O35 -> 405178.12
B37: Net Profit % | C37: =C36/C9 -> 0.15939697 | D37: =D36/D9 -> 0.15939697 | E37: =E36/E9 -> 0.15939697 | F37: =F36/F9 -> 0.15939697 | G37: =G36/G9 -> 0.15939697 | H37: =H36/H9 -> 0.15475179 | I37: =I36/I9 -> 0.15475179 | J37: =J36/J9 -> 0.15475179 | ... O37: =O36/O9 -> 0.15668728
B39: Assumptions in Blue- FILL OUT FIRST
B40: Labor
B41: Number of Technicians | C41: ='People Budget'!C6 -> 7 | D41: ='People Budget'!D6 -> 7 | E41: ='People Budget'!E6 -> 7 | F41: ='People Budget'!F6 -> 7 | G41: ='People Budget'!G6 -> 7 | H41: ='People Budget'!H6 -> 7 | I41: ='People Budget'!I6 -> 7 | J41: ='People Budget'!J6 -> 7 | ... N41: ='People Budget'!N6 -> 7
B42: Weekly Invoiced Hours | C42: 40 | D42: 40 | E42: 40 | F42: 40 | G42: 40 | H42: 40 | I42: 40 | J42: 40 | K42: 40 | L42: 40 | M42: 40 | N42: 40
B43: Weeks in a Month | C43: 4.3 | D43: =C43 -> 4.3 | E43: =D43 -> 4.3 | F43: =E43 -> 4.3 | G43: =F43 -> 4.3 | H43: =G43 -> 4.3 | I43: =H43 -> 4.3 | J43: =I43 -> 4.3 | K43: =J43 -> 4.3 | ... N43: =M43 -> 4.3
B44: Total Invoiced Hours | C44: =C41*C42*C43 -> 1204 | D44: =D41*D42*D43 -> 1204 | E44: =E41*E42*E43 -> 1204 | F44: =F41*F42*F43 -> 1204 | G44: =G41*G42*G43 -> 1204 | H44: =H41*H42*H43 -> 1204 | I44: =I41*I42*I43 -> 1204 | J44: =J41*J42*J43 -> 1204 | ... N44: =N41*N42*N43 -> 1204
...

Sheet People Budget
C1: ='Profit and Loss Budget'!C2 -> 45688 | D1: ='Profit and Loss Budget'!D2 -> 45716 | E1: ='Profit and Loss Budget'!E2 -> 45747 | F1: ='Profit and Loss Budget'!F2 -> 45777 | G1: ='Profit and Loss Budget'!G2 -> 45808 | H1: ='Profit and Loss Budget'!H2 -> 45838 | I1: ='Profit and Loss Budget'!I2 -> 45869 | J1: ='Profit and Loss Budget'!J2 -> 45900 | ... N1: ='Profit and Loss Budget'!N2 -> 46022
A2: Name | B2: Annual | C2: Jan | D2: Feb | E2: Mar | F2: Apr | G2: May | H2: Jun | I2: Jul | J2: Aug | K2: Sep | L2: Oct | M2: Nov | N2: Dec | O2: Invoiced Hours Bonus
A3: GM | B3: 90000 | C3: 1 | D3: 1 | E3: 1 | F3: 1 | G3: 1 | H3: 1 | I3: 1 | J3: 1 | K3: 1 | L3: 1 | M3: 1 | N3: 1 | O3: 0.75
A4: Parts Manager | B4: 80000 | C4: 1 | D4: 1 | E4: 1 | F4: 1 | G4: 1 | H4: 1 | I4: 1 | J4: 1 | K4: 1 | L4: 1 | M4: 1 | N4: 1 | O4: 0.5
A5: Service Manager | B5: 75000 | C5: 1 | D5: 1 | E5: 1 | F5: 1 | G5: 1 | H5: 1 | I5: 1 | J5: 1 | K5: 1 | L5: 1 | M5: 1 | N5: 1 | O5: 0.5
A6: Technician | B6: 60000 | C6: 7 | D6: 7 | E6: 7 | F6: 7 | G6: 7 | H6: 7 | I6: 7 | J6: 7 | K6: 7 | L6: 7 | M6: 7 | N6: 7 | O6: 1
A7: Parts Runner | B7: 30000 | C7: 2 | D7: 2 | E7: 2 | F7: 2 | G7: 2 | H7: 2 | I7: 2 | J7: 2 | K7: 2 | L7: 2 | M7: 2 | N7: 2 | O7: 0.1
A8: Office Manager | B8: 50000 | C8: 1 | D8: 1 | E8: 1 | F8: 1 | G8: 1 | H8: 1 | I8: 1 | J8: 1 | K8: 1 | L8: 1 | M8: 1 | N8: 1 | O8: 0.5
A9: Total | C9: =SUM(C3:C8) -> 13 | D9: =SUM(D3:D8) -> 13 | E9: =SUM(E3:E8) -> 13 | F9: =SUM(F3:F8) -> 13 | G9: =SUM(G3:G8) -> 13 | H9: =SUM(H3:H8) -> 13 | I9: =SUM(I3:I8) -> 13 | J9: =SUM(J3:J8) -> 13 | ... N9: =SUM(N3:N8) -> 13
A12: Name | B12: OPEX/COS | C12: =C2 -> Jan | D12: =D2 -> Feb | E12: =E2 -> Mar | F12: =F2 -> Apr | G12: =G2 -> May | H12: =H2 -> Jun | I12: =I2 -> Jul | J12: =J2 -> Aug | ... N12: =N2 -> Dec
A13: =A3 -> GM | B13: OPEX | C13: =C3*($B3/12) -> 7500 | D13: =D3*($B3/12) -> 7500 | E13: =E3*($B3/12) -> 7500 | F13: =F3*($B3/12) -> 7500 | G13: =G3*($B3/12) -> 7500 | H13: =H3*($B3/12) -> 7500 | I13: =I3*($B3/12) -> 7500 | J13: =J3*($B3/12) -> 7500 | ... N13: =N3*($B3/12) -> 7500
A14: =A4 -> Parts Manager | B14: OPEX | C14: =C4*($B4/12) -> 6666.6667 | D14: =D4*($B4/12) -> 6666.6667 | E14: =E4*($B4/12) -> 6666.6667 | F14: =F4*($B4/12) -> 6666.6667 | G14: =G4*($B4/12) -> 6666.6667 | H14: =H4*($B4/12) -> 6666.6667 | I14: =I4*($B4/12) -> 6666.6667 | J14: =J4*($B4/12) -> 6666.6667 | ... N14: =N4*($B4/12) -> 6666.6667
A15: =A5 -> Service Manager | B15: OPEX | C15: =C5*($B5/12) -> 6250 | D15: =D5*($B5/12) -> 6250 | E15: =E5*($B5/12) -> 6250 | F15: =F5*($B5/12) -> 6250 | G15: =G5*($B5/12) -> 6250 | H15: =H5*($B5/12) -> 6250 | I15: =I5*($B5/12) -> 6250 | J15: =J5*($B5/12) -> 6250 | ... N15: =N5*($B5/12) -> 6250
A16: =A6 -> Technician | B16: COS | C16: =C6*($B6/12) -> 35000 | D16: =D6*($B6/12) -> 35000 | E16: =E6*($B6/12) -> 35000 | F16: =F6*($B6/12) -> 35000 | G16: =G6*($B6/12) -> 35000 | H16: =H6*($B6/12) -> 35000 | I16: =I6*($B6/12) -> 35000 | J16: =J6*($B6/12) -> 35000 | ... N16: =N6*($B6/12) -> 35000
A17: =A7 -> Parts Runner | B17: COS | C17: =C7*($B7/12) -> 5000 | D17: =D7*($B7/12) -> 5000 | E17: =E7*($B7/12) -> 5000 | F17: =F7*($B7/12) -> 5000 | G17: =G7*($B7/12) -> 5000 | H17: =H7*($B7/12) -> 5000 | I17: =I7*($B7/12) -> 5000 | J17: =J7*($B7/12) -> 5000 | ... N17: =N7*($B7/12) -> 5000
A18: =A8 -> Office Manager | B18: OPEX | C18: =C8*($B8/12) -> 4166.6667 | D18: =D8*($B8/12) -> 4166.6667 | E18: =E8*($B8/12) -> 4166.6667 | F18: =F8*($B8/12) -> 4166.6667 | G18: =G8*($B8/12) -> 4166.6667 | H18: =H8*($B8/12) -> 4166.6667 | I18: =I8*($B8/12) -> 4166.6667 | J18: =J8*($B8/12) -> 4166.6667 | ... N18: =N8*($B8/12) -> 4166.6667
C19: =SUM(C13:C18) -> 64583.333 | D19: =SUM(D13:D18) -> 64583.333 | E19: =SUM(E13:E18) -> 64583.333 | F19: =SUM(F13:F18) -> 64583.333 | G19: =SUM(G13:G18) -> 64583.333 | H19: =SUM(H13:H18) -> 64583.333 | I19: =SUM(I13:I18) -> 64583.333 | J19: =SUM(J13:J18) -> 64583.333 | ... N19: =SUM(N13:N18) -> 64583.333
B22: COS | C22: =SUMIF($B$13:$B$18,$B22,C$13:C$18) -> 40000 | D22: =SUMIF($B$13:$B$18,$B22,D$13:D$18) -> 40000 | E22: =SUMIF($B$13:$B$18,$B22,E$13:E$18) -> 40000 | F22: =SUMIF($B$13:$B$18,$B22,F$13:F$18) -> 40000 | G22: =SUMIF($B$13:$B$18,$B22,G$13:G$18) -> 40000 | H22: =SUMIF($B$13:$B$18,$B22,H$13:H$18) -> 40000 | I22: =SUMIF($B$13:$B$18,$B22,I$13:I$18) -> 40000 | J22: =SUMIF($B$13:$B$18,$B22,J$13:J$18) -> 40000 | ... N22: =SUMIF($B$13:$B$18,$B22,N$13:N$18) -> 40000
B23: OPEX | C23: =SUMIF($B$13:$B$18,$B23,C$13:C$18) -> 24583.333 | D23: =SUMIF($B$13:$B$18,$B23,D$13:D$18) -> 24583.333 | E23: =SUMIF($B$13:$B$18,$B23,E$13:E$18) -> 24583.333 | F23: =SUMIF($B$13:$B$18,$B23,F$13:F$18) -> 24583.333 | G23: =SUMIF($B$13:$B$18,$B23,G$13:G$18) -> 24583.333 | H23: =SUMIF($B$13:$B$18,$B23,H$13:H$18) -> 24583.333 | I23: =SUMIF($B$13:$B$18,$B23,I$13:I$18) -> 24583.333 | J23: =SUMIF($B$13:$B$18,$B23,J$13:J$18) -> 24583.333 | ... N23: =SUMIF($B$13:$B$18,$B23,N$13:N$18) -> 24583.333
B24: Total | C24: =SUM(C22:C23) -> 64583.333 | D24: =SUM(D22:D23) -> 64583.333 | E24: =SUM(E22:E23) -> 64583.333 | F24: =SUM(F22:F23) -> 64583.333 | G24: =SUM(G22:G23) -> 64583.333 | H24: =SUM(H22:H23) -> 64583.333 | I24: =SUM(I22:I23) -> 64583.333 | J24: =SUM(J22:J23) -> 64583.333 | ... N24: =SUM(N22:N23) -> 64583.333
A26: Bonus | B26: OPEX/COGS | C26: =C2 -> Jan | D26: =D2 -> Feb | E26: =E2 -> Mar | F26: =F2 -> Apr | G26: =G2 -> May | H26: =H2 -> Jun | I26: =I2 -> Jul | J26: =J2 -> Aug | ... N26: =N2 -> Dec
A27: =A3 -> GM | B27: =B13 -> OPEX | C27: ='Profit and Loss Budget'!C$44*$O3*C3 -> 903 | D27: ='Profit and Loss Budget'!D$44*$O3*D3 -> 903 | E27: ='Profit and Loss Budget'!E$44*$O3*E3 -> 903 | F27: ='Profit and Loss Budget'!F$44*$O3*F3 -> 903 | G27: ='Profit and Loss Budget'!G$44*$O3*G3 -> 903 | H27: ='Profit and Loss Budget'!H$44*$O3*H3 -> 903 | I27: ='Profit and Loss Budget'!I$44*$O3*I3 -> 903 | J27: ='Profit and Loss Budget'!J$44*$O3*J3 -> 903 | ... N27: ='Profit and Loss Budget'!N$44*$O3*N3 -> 903
A28: =A4 -> Parts Manager | B28: =B14 -> OPEX | C28: ='Profit and Loss Budget'!C$44*$O4*C4 -> 602 | D28: ='Profit and Loss Budget'!D$44*$O4*D4 -> 602 | E28: ='Profit and Loss Budget'!E$44*$O4*E4 -> 602 | F28: ='Profit and Loss Budget'!F$44*$O4*F4 -> 602 | G28: ='Profit and Loss Budget'!G$44*$O4*G4 -> 602 | H28: ='Profit and Loss Budget'!H$44*$O4*H4 -> 602 | I28: ='Profit and Loss Budget'!I$44*$O4*I4 -> 602 | J28: ='Profit and Loss Budget'!J$44*$O4*J4 -> 602 | ... N28: ='Profit and Loss Budget'!N$44*$O4*N4 -> 602
A29: =A5 -> Service Manager | B29: =B15 -> OPEX | C29: ='Profit and Loss Budget'!C$44*$O5*C5 -> 602 | D29: ='Profit and Loss Budget'!D$44*$O5*D5 -> 602 | E29: ='Profit and Loss Budget'!E$44*$O5*E5 -> 602 | F29: ='Profit and Loss Budget'!F$44*$O5*F5 -> 602 | G29: ='Profit and Loss Budget'!G$44*$O5*G5 -> 602 | H29: ='Profit and Loss Budget'!H$44*$O5*H5 -> 602 | I29: ='Profit and Loss Budget'!I$44*$O5*I5 -> 602 | J29: ='Profit and Loss Budget'!J$44*$O5*J5 -> 602 | ... N29: ='Profit and Loss Budget'!N$44*$O5*N5 -> 602
A30: =A6 -> Technician | B30: COS | C30: ='Profit and Loss Budget'!C$44*$O6*C6 -> 8428 | D30: ='Profit and Loss Budget'!D$44*$O6*D6 -> 8428 | E30: ='Profit and Loss Budget'!E$44*$O6*E6 -> 8428 | F30: ='Profit and Loss Budget'!F$44*$O6*F6 -> 8428 | G30: ='Profit and Loss Budget'!G$44*$O6*G6 -> 8428 | H30: ='Profit and Loss Budget'!H$44*$O6*H6 -> 8428 | I30: ='Profit and Loss Budget'!I$44*$O6*I6 -> 8428 | J30: ='Profit and Loss Budget'!J$44*$O6*J6 -> 8428 | ... N30: ='Profit and Loss Budget'!N$44*$O6*N6 -> 8428
A31: =A7 -> Parts Runner | B31: =B17 -> COS | C31: ='Profit and Loss Budget'!C$44*$O7*C7 -> 240.8 | D31: ='Profit and Loss Budget'!D$44*$O7*D7 -> 240.8 | E31: ='Profit and Loss Budget'!E$44*$O7*E7 -> 240.8 | F31: ='Profit and Loss Budget'!F$44*$O7*F7 -> 240.8 | G31: ='Profit and Loss Budget'!G$44*$O7*G7 -> 240.8 | H31: ='Profit and Loss Budget'!H$44*$O7*H7 -> 240.8 | I31: ='Profit and Loss Budget'!I$44*$O7*I7 -> 240.8 | J31: ='Profit and Loss Budget'!J$44*$O7*J7 -> 240.8 | ... N31: ='Profit and Loss Budget'!N$44*$O7*N7 -> 240.8
A32: =A8 -> Office Manager | B32: =B18 -> OPEX | C32: ='Profit and Loss Budget'!C$44*$O8*C8 -> 602 | D32: ='Profit and Loss Budget'!D$44*$O8*D8 -> 602 | E32: ='Profit and Loss Budget'!E$44*$O8*E8 -> 602 | F32: ='Profit and Loss Budget'!F$44*$O8*F8 -> 602 | G32: ='Profit and Loss Budget'!G$44*$O8*G8 -> 602 | H32: ='Profit and Loss Budget'!H$44*$O8*H8 -> 602 | I32: ='Profit and Loss Budget'!I$44*$O8*I8 -> 602 | J32: ='Profit and Loss Budget'!J$44*$O8*J8 -> 602 | ... N32: ='Profit and Loss Budget'!N$44*$O8*N8 -> 602
B35: COS | C35: =SUMIF($B$27:$B$32,$B35,C$27:C$32) -> 8668.8 | D35: =SUMIF($B$27:$B$32,$B35,D$27:D$32) -> 8668.8 | E35: =SUMIF($B$27:$B$32,$B35,E$27:E$32) -> 8668.8 | F35: =SUMIF($B$27:$B$32,$B35,F$27:F$32) -> 8668.8 | G35: =SUMIF($B$27:$B$32,$B35,G$27:G$32) -> 8668.8 | H35: =SUMIF($B$27:$B$32,$B35,H$27:H$32) -> 8668.8 | I35: =SUMIF($B$27:$B$32,$B35,I$27:I$32) -> 8668.8 | J35: =SUMIF($B$27:$B$32,$B35,J$27:J$32) -> 8668.8 | ... N35: =SUMIF($B$27:$B$32,$B35,N$27:N$32) -> 8668.8
B36: OPEX | C36: =SUMIF($B$27:$B$32,$B36,C$27:C$32) -> 2709 | D36: =SUMIF($B$27:$B$32,$B36,D$27:D$32) -> 2709 | E36: =SUMIF($B$27:$B$32,$B36,E$27:E$32) -> 2709 | F36: =SUMIF($B$27:$B$32,$B36,F$27:F$32) -> 2709 | G36: =SUMIF($B$27:$B$32,$B36,G$27:G$32) -> 2709 | H36: =SUMIF($B$27:$B$32,$B36,H$27:H$32) -> 2709 | I36: =SUMIF($B$27:$B$32,$B36,I$27:I$32) -> 2709 | J36: =SUMIF($B$27:$B$32,$B36,J$27:J$32) -> 2709 | ... N36: =SUMIF($B$27:$B$32,$B36,N$27:N$32) -> 2709
B37: Total | C37: =SUM(C35:C36) -> 11377.8 | D37: =SUM(D35:D36) -> 11377.8 | E37: =SUM(E35:E36) -> 11377.8 | F37: =SUM(F35:F36) -> 11377.8 | G37: =SUM(G35:G36) -> 11377.8 | H37: =SUM(H35:H36) -> 11377.8 | I37: =SUM(I35:I36) -> 11377.8 | J37: =SUM(J35:J36) -> 11377.8 | ... N37: =SUM(N35:N36) -> 11377.8
A39: Benefits, Tax, etc Rate | B39: 0.2

Sheet Balance Sheet
B1: Opening | C1: Jan | D1: Feb | E1: Mar | F1: Apr | G1: May | H1: Jun | I1: Jul | J1: Aug | K1: Sep | L1: Oct | M1: Nov | N1: Dec
A2: ASSETS
A3: Current Assets
A4: Cash | B4: 120000 | C4: ='Cash Flow'!B24 -> 130484.84 | D4: ='Cash Flow'!C24 -> 161833.6 | E4: ='Cash Flow'!D24 -> 194182.36 | F4: ='Cash Flow'!E24 -> 233031.12 | G4: ='Cash Flow'!F24 -> 262879.88 | H4: ='Cash Flow'!G24 -> 296227.64 | I4: ='Cash Flow'!H24 -> 329575.4 | J4: ='Cash Flow'!I24 -> 362923.16 | ... N4: ='Cash Flow'!M24 -> 496314.2
A5: Receivables | B5: 150000 | C5: ='Profit and Loss Budget'!C9 -> 215491.92 | D5: ='Profit and Loss Budget'!D9 -> 215491.92 | E5: ='Profit and Loss Budget'!E9 -> 215491.92 | F5: ='Profit and Loss Budget'!F9 -> 215491.92 | G5: ='Profit and Loss Budget'!G9 -> 215491.92 | H5: ='Profit and Loss Budget'!H9 -> 215491.92 | I5: ='Profit and Loss Budget'!I9 -> 215491.92 | J5: ='Profit and Loss Budget'!J9 -> 215491.92 | ... N5: ='Profit and Loss Budget'!N9 -> 215491.92
A6: Inventory | B6: 25000 | C6: 25000 | D6: 25000 | E6: 25000 | F6: 25000 | G6: 25000 | H6: 25000 | I6: 25000 | J6: 25000 | K6: 25000 | L6: 25000 | M6: 25000 | N6: 25000
A7: Prepaids | B7: 0 | C7: 0 | D7: 0 | E7: 0 | F7: 0 | G7: 0 | H7: 0 | I7: 0 | J7: 0 | K7: 0 | L7: 0 | M7: 0 | N7: 0
A8: Total Current Assets | B8: =SUBTOTAL(9,B4:B7) -> 295000 | C8: =SUBTOTAL(9,C4:C7) -> 370976.76 | D8: =SUBTOTAL(9,D4:D7) -> 402325.52 | E8: =SUBTOTAL(9,E4:E7) -> 434674.28 | F8: =SUBTOTAL(9,F4:F7) -> 473523.04 | G8: =SUBTOTAL(9,G4:G7) -> 503371.8 | H8: =SUBTOTAL(9,H4:H7) -> 536719.56 | I8: =SUBTOTAL(9,I4:I7) -> 570067.32 | ... N8: =SUBTOTAL(9,N4:N7) -> 736806.12
A9: Fixed Assets | B9: 0 | C9: 0 | D9: 0 | E9: 0 | F9: 0 | G9: 0 | H9: 0 | I9: 0 | J9: 0 | K9: 0 | L9: 0 | M9: 0 | N9: 0
A10: Total Assets | B10: =SUBTOTAL(9,B4:B9) -> 295000 | C10: =SUBTOTAL(9,C4:C9) -> 370976.76 | D10: =SUBTOTAL(9,D4:D9) -> 402325.52 | E10: =SUBTOTAL(9,E4:E9) -> 434674.28 | F10: =SUBTOTAL(9,F4:F9) -> 473523.04 | G10: =SUBTOTAL(9,G4:G9) -> 503371.8 | H10: =SUBTOTAL(9,H4:H9) -> 536719.56 | I10: =SUBTOTAL(9,I4:I9) -> 570067.32 | ... N10: =SUBTOTAL(9,N4:N9) -> 736806.12
A12: LIABILITIES
A13: Current Liabilities
A14: Payables | B14: 30000 | C14: ='Profit and Loss Budget'!C13 -> 68628 | D14: ='Profit and Loss Budget'!D13 -> 68628 | E14: ='Profit and Loss Budget'!E13 -> 68628 | F14: ='Profit and Loss Budget'!F13 -> 68628 | G14: ='Profit and Loss Budget'!G13 -> 68628 | H14: ='Profit and Loss Budget'!H13 -> 68628 | I14: ='Profit and Loss Budget'!I13 -> 68628 | J14: ='Profit and Loss Budget'!J13 -> 68628 | ... N14: ='Profit and Loss Budget'!N13 -> 68628
A15: Credit card | B15: 5000 | C15: 8000 | D15: 5000 | E15: 3000 | F15: 7500 | G15: 3000 | H15: 3000 | I15: 3000 | J15: 3000 | K15: 3000 | L15: 3000 | M15: 3000 | N15: 3000
A16: Accrueds | B16: 0 | C16: 0 | D16: 0 | E16: 0 | F16: 0 | G16: 0 | H16: 0 | I16: 0 | J16: 0 | K16: 0 | L16: 0 | M16: 0 | N16: 0
A17: Total Current Liabilities | B17: =SUBTOTAL(9,B14:B16) -> 35000 | C17: =SUBTOTAL(9,C14:C16) -> 76628 | D17: =SUBTOTAL(9,D14:D16) -> 73628 | E17: =SUBTOTAL(9,E14:E16) -> 71628 | F17: =SUBTOTAL(9,F14:F16) -> 76128 | G17: =SUBTOTAL(9,G14:G16) -> 71628 | H17: =SUBTOTAL(9,H14:H16) -> 71628 | I17: =SUBTOTAL(9,I14:I16) -> 71628 | ... N17: =SUBTOTAL(9,N14:N16) -> 71628
A18: Debt | B18: 0 | C18: 0 | D18: 0 | E18: 0 | F18: 0 | G18: 0 | H18: 0 | I18: 0 | J18: 0 | K18: 0 | L18: 0 | M18: 0 | N18: 0
A19: Total Liabilities | B19: =SUBTOTAL(9,B14:B18) -> 35000 | C19: =SUBTOTAL(9,C14:C18) -> 76628 | D19: =SUBTOTAL(9,D14:D18) -> 73628 | E19: =SUBTOTAL(9,E14:E18) -> 71628 | F19: =SUBTOTAL(9,F14:F18) -> 76128 | G19: =SUBTOTAL(9,G14:G18) -> 71628 | H19: =SUBTOTAL(9,H14:H18) -> 71628 | I19: =SUBTOTAL(9,I14:I18) -> 71628 | ... N19: =SUBTOTAL(9,N14:N18) -> 71628
A21: EQUITY
A22: Owners Equity | B22: 260000 | C22: =B22 -> 260000 | D22: =C22 -> 260000 | E22: =D22 -> 260000 | F22: =E22 -> 260000 | G22: =F22 -> 260000 | H22: =G22 -> 260000 | I22: =H22 -> 260000 | J22: =I22 -> 260000 | ... N22: =M22 -> 260000
A23: Investment | B23: 0 | C23: 0 | D23: 0 | E23: 0 | F23: 0 | G23: 0 | H23: 0 | I23: 0 | J23: 0 | K23: 0 | L23: 0 | M23: 0 | N23: 0
A24: Draws | B24: =0 -> 0 | C24: =0 -> 0 | D24: =0 -> 0 | E24: =0 -> 0 | F24: =0 -> 0 | G24: =0 -> 0 | H24: =0 -> 0 | I24: =0 -> 0 | ... N24: =0 -> 0
A25: Retained Earnings | B25: 0 | C25: 0 | D25: 0 | E25: 0 | F25: 0 | G25: 0 | H25: 0 | I25: 0 | J25: 0 | K25: 0 | L25: 0 | M25: 0 | N25: 0
A26: Net Income | C26: ='Profit and Loss Budget'!C36 -> 34348.76 | D26: ='Profit and Loss Budget'!D36+C26 -> 68697.52 | E26: ='Profit and Loss Budget'!E36+D26 -> 103046.28 | F26: ='Profit and Loss Budget'!F36+E26 -> 137395.04 | G26: ='Profit and Loss Budget'!G36+F26 -> 171743.8 | H26: ='Profit and Loss Budget'!H36+G26 -> 205091.56 | I26: ='Profit and Loss Budget'!I36+H26 -> 238439.32 | J26: ='Profit and Loss Budget'!J36+I26 -> 271787.08 | K26: ='Profit and Loss Budget'!K36+J26 -> 305134.84 | ... N26: ='Profit and Loss Budget'!N36+M26 -> 405178.12
A27: Total Equity | B27: =SUBTOTAL(9,B22:B26) -> 260000 | C27: =SUBTOTAL(9,C22:C26) -> 294348.76 | D27: =SUBTOTAL(9,D22:D26) -> 328697.52 | E27: =SUBTOTAL(9,E22:E26) -> 363046.28 | F27: =SUBTOTAL(9,F22:F26) -> 397395.04 | G27: =SUBTOTAL(9,G22:G26) -> 431743.8 | H27: =SUBTOTAL(9,H22:H26) -> 465091.56 | I27: =SUBTOTAL(9,I22:I26) -> 498439.32 | ... N27: =SUBTOTAL(9,N22:N26) -> 665178.12
A28: Total Liabilities & Equity | B28: =SUBTOTAL(9,B13:B27) -> 295000 | C28: =SUBTOTAL(9,C13:C27) -> 370976.76 | D28: =SUBTOTAL(9,D13:D27) -> 402325.52 | E28: =SUBTOTAL(9,E13:E27) -> 434674.28 | F28: =SUBTOTAL(9,F13:F27) -> 473523.04 | G28: =SUBTOTAL(9,G13:G27) -> 503371.8 | H28: =SUBTOTAL(9,H13:H27) -> 536719.56 | I28: =SUBTOTAL(9,I13:I27) -> 570067.32 | ... N28: =SUBTOTAL(9,N13:N27) -> 736806.12
A29: Check | B29: =B28-B10 -> 0 | C29: =C28-C10 -> 0 | D29: =D28-D10 -> 0 | E29: =E28-E10 -> 0 | F29: =F28-F10 -> 0 | G29: =G28-G10 -> 0 | H29: =H28-H10 -> 0 | I29: =I28-I10 -> 0 | ... N29: =N28-N10 -> 0
A31: Working Capital | B31: =B8-B17 -> 260000 | C31: =C8-C17 -> 294348.76 | D31: =D8-D17 -> 328697.52 | E31: =E8-E17 -> 363046.28 | F31: =F8-F17 -> 397395.04 | G31: =G8-G17 -> 431743.8 | H31: =H8-H17 -> 465091.56 | I31: =I8-I17 -> 498439.32 | ... N31: =N8-N17 -> 665178.12
A32: % in Cash | B32: =B4/B31 -> 0.46153846 | C32: =C4/C31 -> 0.44330012 | D32: =D4/D31 -> 0.4923481 | E32: =E4/E31 -> 0.53486944 | F32: =F4/F31 -> 0.58639665 | G32: =G4/G31 -> 0.60887934 | H32: =H4/H31 -> 0.63692328 | I32: =I4/I31 -> 0.66121469 | ... N32: =N4/N31 -> 0.74613729
A33: Current Ratio | B33: =IFERROR(B8/B17,0) -> 8.4285714 | C33: =IFERROR(C8/C17,0) -> 4.841269 | D33: =IFERROR(D8/D17,0) -> 5.4643005 | E33: =IFERROR(E8/E17,0) -> 6.0684967 | F33: =IFERROR(F8/F17,0) -> 6.2200904 | G33: =IFERROR(G8/G17,0) -> 7.0275842 | H33: =IFERROR(H8/H17,0) -> 7.493153 | I33: =IFERROR(I8/I17,0) -> 7.9587217 | ... N33: =IFERROR(N8/N17,0) -> 10.286566
A34: Quick Ratio | B34: =IFERROR(B4/B17,0) -> 3.4285714 | C34: =IFERROR(C4/C17,0) -> 1.702835 | D34: =IFERROR(D4/D17,0) -> 2.1979899 | E34: =IFERROR(E4/E17,0) -> 2.710984 | F34: =IFERROR(F4/F17,0) -> 3.0610435 | G34: =IFERROR(G4/G17,0) -> 3.6700715 | H34: =IFERROR(H4/H17,0) -> 4.1356403 | I34: =IFERROR(I4/I17,0) -> 4.601209 | ... N34: =IFERROR(N4/N17,0) -> 6.9290529

Sheet Cash Flow
B1: Jan | C1: Feb | D1: Mar | E1: Apr | F1: May | G1: Jun | H1: Jul | I1: Aug | J1: Sep | K1: Oct | L1: Nov | M1: Dec | N1: Total
A2: OPERATING
A3: Net Income | B3: ='Profit and Loss Budget'!C36 -> 34348.76 | C3: ='Profit and Loss Budget'!D36 -> 34348.76 | D3: ='Profit and Loss Budget'!E36 -> 34348.76 | E3: ='Profit and Loss Budget'!F36 -> 34348.76 | F3: ='Profit and Loss Budget'!G36 -> 34348.76 | G3: ='Profit and Loss Budget'!H36 -> 33347.76 | H3: ='Profit and Loss Budget'!I36 -> 33347.76 | I3: ='Profit and Loss Budget'!J36 -> 33347.76 | ... M3: ='Profit and Loss Budget'!N36 -> 33347.76 | N3: =SUM(B3:M3) -> 405178.12
A4: Changes to Assets and Liabilities
A5: Receivables | B5: ='Balance Sheet'!B5-'Balance Sheet'!C5 -> -65491.92 | C5: ='Balance Sheet'!C5-'Balance Sheet'!D5 -> 0 | D5: ='Balance Sheet'!D5-'Balance Sheet'!E5 -> 0 | E5: ='Balance Sheet'!E5-'Balance Sheet'!F5 -> 0 | F5: ='Balance Sheet'!F5-'Balance Sheet'!G5 -> 0 | G5: ='Balance Sheet'!G5-'Balance Sheet'!H5 -> 0 | H5: ='Balance Sheet'!H5-'Balance Sheet'!I5 -> 0 | I5: ='Balance Sheet'!I5-'Balance Sheet'!J5 -> 0 | ... M5: ='Balance Sheet'!M5-'Balance Sheet'!N5 -> 0 | N5: =SUM(B5:M5) -> -65491.92
A6: Inventory | B6: ='Balance Sheet'!B6-'Balance Sheet'!C6 -> 0 | C6: ='Balance Sheet'!C6-'Balance Sheet'!D6 -> 0 | D6: ='Balance Sheet'!D6-'Balance Sheet'!E6 -> 0 | E6: ='Balance Sheet'!E6-'Balance Sheet'!F6 -> 0 | F6: ='Balance Sheet'!F6-'Balance Sheet'!G6 -> 0 | G6: ='Balance Sheet'!G6-'Balance Sheet'!H6 -> 0 | H6: ='Balance Sheet'!H6-'Balance Sheet'!I6 -> 0 | I6: ='Balance Sheet'!I6-'Balance Sheet'!J6 -> 0 | ... M6: ='Balance Sheet'!M6-'Balance Sheet'!N6 -> 0 | N6: =SUM(B6:M6) -> 0
A7: Prepaids | B7: ='Balance Sheet'!B7-'Balance Sheet'!C7 -> 0 | C7: ='Balance Sheet'!C7-'Balance Sheet'!D7 -> 0 | D7: ='Balance Sheet'!D7-'Balance Sheet'!E7 -> 0 | E7: ='Balance Sheet'!E7-'Balance Sheet'!F7 -> 0 | F7: ='Balance Sheet'!F7-'Balance Sheet'!G7 -> 0 | G7: ='Balance Sheet'!G7-'Balance Sheet'!H7 -> 0 | H7: ='Balance Sheet'!H7-'Balance Sheet'!I7 -> 0 | I7: ='Balance Sheet'!I7-'Balance Sheet'!J7 -> 0 | ... M7: ='Balance Sheet'!M7-'Balance Sheet'!N7 -> 0 | N7: =SUM(B7:M7) -> 0
A8: Payables | B8: ='Balance Sheet'!C14-'Balance Sheet'!B14 -> 38628 | C8: ='Balance Sheet'!D14-'Balance Sheet'!C14 -> 0 | D8: ='Balance Sheet'!E14-'Balance Sheet'!D14 -> 0 | E8: ='Balance Sheet'!F14-'Balance Sheet'!E14 -> 0 | F8: ='Balance Sheet'!G14-'Balance Sheet'!F14 -> 0 | G8: ='Balance Sheet'!H14-'Balance Sheet'!G14 -> 0 | H8: ='Balance Sheet'!I14-'Balance Sheet'!H14 -> 0 | I8: ='Balance Sheet'!J14-'Balance Sheet'!I14 -> 0 | ... M8: ='Balance Sheet'!N14-'Balance Sheet'!M14 -> 0 | N8: =SUM(B8:M8) -> 38628
A9: Accrueds | B9: ='Balance Sheet'!C16-'Balance Sheet'!B16 -> 0 | C9: ='Balance Sheet'!D16-'Balance Sheet'!C16 -> 0 | D9: ='Balance Sheet'!E16-'Balance Sheet'!D16 -> 0 | E9: ='Balance Sheet'!F16-'Balance Sheet'!E16 -> 0 | F9: ='Balance Sheet'!G16-'Balance Sheet'!F16 -> 0 | G9: ='Balance Sheet'!H16-'Balance Sheet'!G16 -> 0 | H9: ='Balance Sheet'!I16-'Balance Sheet'!H16 -> 0 | I9: ='Balance Sheet'!J16-'Balance Sheet'!I16 -> 0 | ... M9: ='Balance Sheet'!N16-'Balance Sheet'!M16 -> 0 | N9: =SUM(B9:M9) -> 0
A10: Cash Flows from Operations | B10: =SUM(B5:B9)+B3 -> 7484.84 | C10: =SUM(C5:C9)+C3 -> 34348.76 | D10: =SUM(D5:D9)+D3 -> 34348.76 | E10: =SUM(E5:E9)+E3 -> 34348.76 | F10: =SUM(F5:F9)+F3 -> 34348.76 | G10: =SUM(G5:G9)+G3 -> 33347.76 | H10: =SUM(H5:H9)+H3 -> 33347.76 | I10: =SUM(I5:I9)+I3 -> 33347.76 | ... N10: =SUM(N5:N9)+N3 -> 378314.2
A12: INVESTING
A13: Purchase of Fixed Assets | B13: ='Balance Sheet'!B9-'Balance Sheet'!C9 -> 0 | C13: ='Balance Sheet'!C9-'Balance Sheet'!D9 -> 0 | D13: ='Balance Sheet'!D9-'Balance Sheet'!E9 -> 0 | E13: ='Balance Sheet'!E9-'Balance Sheet'!F9 -> 0 | F13: ='Balance Sheet'!F9-'Balance Sheet'!G9 -> 0 | G13: ='Balance Sheet'!G9-'Balance Sheet'!H9 -> 0 | H13: ='Balance Sheet'!H9-'Balance Sheet'!I9 -> 0 | I13: ='Balance Sheet'!I9-'Balance Sheet'!J9 -> 0 | ... M13: ='Balance Sheet'!M9-'Balance Sheet'!N9 -> 0 | N13: =SUM(B13:M13) -> 0
A14: Cash Flows from Investing | B14: =SUM(B13) -> 0 | C14: =SUM(C13) -> 0 | D14: =SUM(D13) -> 0 | E14: =SUM(E13) -> 0 | F14: =SUM(F13) -> 0 | G14: =SUM(G13) -> 0 | H14: =SUM(H13) -> 0 | I14: =SUM(I13) -> 0 | ... M14: =SUM(M13) -> 0 | N14: =SUM(B14:M14) -> 0
A16: FINANCING
A17: Credit Card | B17: ='Balance Sheet'!C15-'Balance Sheet'!B15 -> 3000 | C17: ='Balance Sheet'!D15-'Balance Sheet'!C15 -> -3000 | D17: ='Balance Sheet'!E15-'Balance Sheet'!D15 -> -2000 | E17: ='Balance Sheet'!F15-'Balance Sheet'!E15 -> 4500 | F17: ='Balance Sheet'!G15-'Balance Sheet'!F15 -> -4500 | G17: ='Balance Sheet'!H15-'Balance Sheet'!G15 -> 0 | H17: ='Balance Sheet'!I15-'Balance Sheet'!H15 -> 0 | I17: ='Balance Sheet'!J15-'Balance Sheet'!I15 -> 0 | ... M17: ='Balance Sheet'!N15-'Balance Sheet'!M15 -> 0 | N17: =SUM(B17:M17) -> -2000
A18: Capital Raise | B18: ='Balance Sheet'!C23-'Balance Sheet'!B23 -> 0 | C18: ='Balance Sheet'!D23-'Balance Sheet'!C23 -> 0 | D18: ='Balance Sheet'!E23-'Balance Sheet'!D23 -> 0 | E18: ='Balance Sheet'!F23-'Balance Sheet'!E23 -> 0 | F18: ='Balance Sheet'!G23-'Balance Sheet'!F23 -> 0 | G18: ='Balance Sheet'!H23-'Balance Sheet'!G23 -> 0 | H18: ='Balance Sheet'!I23-'Balance Sheet'!H23 -> 0 | I18: ='Balance Sheet'!J23-'Balance Sheet'!I23 -> 0 | ... M18: ='Balance Sheet'!N23-'Balance Sheet'!M23 -> 0
A19: Debt Financing | B19: ='Balance Sheet'!C18-'Balance Sheet'!B18 -> 0 | C19: ='Balance Sheet'!D18-'Balance Sheet'!C18 -> 0 | D19: ='Balance Sheet'!E18-'Balance Sheet'!D18 -> 0 | E19: ='Balance Sheet'!F18-'Balance Sheet'!E18 -> 0 | F19: ='Balance Sheet'!G18-'Balance Sheet'!F18 -> 0 | G19: ='Balance Sheet'!H18-'Balance Sheet'!G18 -> 0 | H19: ='Balance Sheet'!I18-'Balance Sheet'!H18 -> 0 | I19: ='Balance Sheet'!J18-'Balance Sheet'!I18 -> 0 | ... M19: ='Balance Sheet'!N18-'Balance Sheet'!M18 -> 0 | N19: =SUM(B19:M19) -> 0
A20: Cash Flows from Financing | B20: =SUM(B17:B19) -> 3000 | C20: =SUM(C17:C19) -> -3000 | D20: =SUM(D17:D19) -> -2000 | E20: =SUM(E17:E19) -> 4500 | F20: =SUM(F17:F19) -> -4500 | G20: =SUM(G17:G19) -> 0 | H20: =SUM(H17:H19) -> 0 | I20: =SUM(I17:I19) -> 0 | ... M20: =SUM(M17:M19) -> 0 | N20: =SUM(B20:M20) -> -2000
A22: Net Change in Cash | B22: =B10+B14+B20 -> 10484.84 | C22: =C10+C14+C20 -> 31348.76 | D22: =D10+D14+D20 -> 32348.76 | E22: =E10+E14+E20 -> 38848.76 | F22: =F10+F14+F20 -> 29848.76 | G22: =G10+G14+G20 -> 33347.76 | H22: =H10+H14+H20 -> 33347.76 | I22: =I10+I14+I20 -> 33347.76 | ... M22: =M10+M14+M20 -> 33347.76 | N22: =SUM(B22:M22) -> 376314.2
A23: Beginning Cash | B23: ='Balance Sheet'!B4 -> 120000 | C23: =B24 -> 130484.84 | D23: =C24 -> 161833.6 | E23: =D24 -> 194182.36 | F23: =E24 -> 233031.12 | G23: =F24 -> 262879.88 | H23: =G24 -> 296227.64 | I23: =H24 -> 329575.4 | J23: =I24 -> 362923.16 | ... M23: =L24 -> 462966.44 | N23: =B23 -> 120000
A24: Ending Cash | B24: =SUM(B22:B23) -> 130484.84 | C24: =SUM(C22:C23) -> 161833.6 | D24: =SUM(D22:D23) -> 194182.36 | E24: =SUM(E22:E23) -> 233031.12 | F24: =SUM(F22:F23) -> 262879.88 | G24: =SUM(G22:G23) -> 296227.64 | H24: =SUM(H22:H23) -> 329575.4 | I24: =SUM(I22:I23) -> 362923.16 | ... M24: =SUM(M22:M23) -> 496314.2 | N24: =M24 -> 496314.2
A25: Check | B25: =B24-'Balance Sheet'!C4 -> 0 | C25: =C24-'Balance Sheet'!D4 -> 0 | D25: =D24-'Balance Sheet'!E4 -> 0 | E25: =E24-'Balance Sheet'!F4 -> 0 | F25: =F24-'Balance Sheet'!G4 -> 0 | G25: =G24-'Balance Sheet'!H4 -> 0 | H25: =H24-'Balance Sheet'!I4 -> 0 | I25: =I24-'Balance Sheet'!J4 -> 0 | ... M25: =M24-'Balance Sheet'!N4 -> 0
